BEGIN:VCALENDAR
VERSION:2.0
PRODID:-//Faith Marie Baczko - ECPv6.15.20//NONSGML v1.0//EN
CALSCALE:GREGORIAN
METHOD:PUBLISH
X-ORIGINAL-URL:https://faithmariebaczko.ca
X-WR-CALDESC:Events for Faith Marie Baczko
REFRESH-INTERVAL;VALUE=DURATION:PT1H
X-Robots-Tag:noindex
X-PUBLISHED-TTL:PT1H
BEGIN:VTIMEZONE
TZID:America/Toronto
BEGIN:DAYLIGHT
TZOFFSETFROM:-0500
TZOFFSETTO:-0400
TZNAME:EDT
DTSTART:20250309T070000
END:DAYLIGHT
BEGIN:STANDARD
TZOFFSETFROM:-0400
TZOFFSETTO:-0500
TZNAME:EST
DTSTART:20251102T060000
END:STANDARD
BEGIN:DAYLIGHT
TZOFFSETFROM:-0500
TZOFFSETTO:-0400
TZNAME:EDT
DTSTART:20260308T070000
END:DAYLIGHT
BEGIN:STANDARD
TZOFFSETFROM:-0400
TZOFFSETTO:-0500
TZNAME:EST
DTSTART:20261101T060000
END:STANDARD
BEGIN:DAYLIGHT
TZOFFSETFROM:-0500
TZOFFSETTO:-0400
TZNAME:EDT
DTSTART:20270314T070000
END:DAYLIGHT
BEGIN:STANDARD
TZOFFSETFROM:-0400
TZOFFSETTO:-0500
TZNAME:EST
DTSTART:20271107T060000
END:STANDARD
END:VTIMEZONE
BEGIN:VEVENT
DTSTART;TZID=America/Toronto:20260516T100000
DTEND;TZID=America/Toronto:20260516T150000
DTSTAMP:20260424T182347
CREATED:20260415T131239Z
LAST-MODIFIED:20260419T105733Z
UID:15551-1778925600-1778943600@faithmariebaczko.ca
SUMMARY:The Messiah Code V:
DESCRIPTION:THE MASTER’S CLASS: His Architecture of Glory\nCODE V: The Dance of Mahanaim\nThe concept of Mahanaim embodies the realm where the movements of Heaven and Earth function in holy harmony\, creating a dynamic of convergence.\n\n\n\n\nThe scriptures reveal that God’s ultimate intention is to sum up all things in Christ\, as stated in Ephesians one. Everything in redemption is ultimately moving towards that point. What we see throughout scripture is that this plan unfolds in two major movements: First\, an outward expansion from the Messiah into the nations\, and ultimately\, a convergence back into Him. We have entered the era of God’s unveiling of eschatological architecture—His divine framework for this season. The Messiah Code gives us insight and understanding into the significance of the times in which we live and how to build and move forward. \nUnderstanding also establishes the ground needed to receive\, contain\, and sustain the weight of Glory reserved and needed for this climactic hour. \nJoin us for these notable days of revelation and convergence as we unfold the Messiah Code at our monthly Gatherings and Conferences in 2026. \nREGISTRATION IS FREE\, AND LUNCH IS PROVIDED. (An offering will therefore be taken) \n PLEASE LET US KNOW IF YOU ARE UNABLE TO ATTEND\, AS WE ARE PREPARING FOR YOU! \nMARK YOUR CALENDARS: June 20 (Pastors & Leaders Presentation)\, July 18th\, August 8th\, September 12th\, October 3rd\, November 7th\, and December 5th.
URL:https://faithmariebaczko.ca/event/the-apocalypse-of-the-messiah-code-v/
LOCATION:Attwell Centre\, 272 Attwell Drive\, Etobicoke\, Ontario\, Canada
CATEGORIES:Meeting
ATTACH;FMTTYPE=image/png:https://faithmariebaczko.ca/wp-content/uploads/2026/04/Untitled-1988-x-1325-px-17.png
END:VEVENT
END:VCALENDAR